BEGIN:VCALENDAR
VERSION:2.0
PRODID:spatie/icalendar-generator
DESCRIPTION:Veranstaltungen von sun&amp;amp\;kids e.V.
X-WR-CALDESC:Veranstaltungen von sun&amp;amp\;kids e.V.
REFRESH-INTERVAL;VALUE=DURATION:PT1440M
X-PUBLISHED-TTL:PT1440M
BEGIN:VTIMEZONE
TZID:Etc/GMT-1
BEGIN:STANDARD
DTSTART:20240514T000000Z
TZOFFSETFROM:+0100
TZOFFSETTO:+0100
END:STANDARD
END:VTIMEZONE
BEGIN:VTIMEZONE
TZID:UTC
BEGIN:STANDARD
DTSTART:20250728T093740Z
TZOFFSETFROM:+0000
TZOFFSETTO:+0000
END:STANDARD
END:VTIMEZONE
BEGIN:VEVENT
UID:1097-22
DTSTAMP:20260424T093740Z
SUMMARY:Volleyball Turnier
LOCATION:
ORGANIZER;CN=verein:MAILTO:info@sunkids-verein.de
DTSTART;TZID=Etc/GMT-1;VALUE=DATE:20250208
DTEND;TZID=Etc/GMT-1;VALUE=DATE:20250209
X-ALT-DESC;FMTTYPE=TEXT/HTML:
CATEGORIES:Volleybal Turnier
URL;VALUE=URI:https://www.sunkids-verein.de/mc-events/volleyball-turnier-2/
METHOD:PUBLISH
END:VEVENT
END:VCALENDAR