BEGIN:VCALENDAR
VERSION:2.0
PRODID:spatie/icalendar-generator
DESCRIPTION:Veranstaltungen von sun&amp;amp\;kids e.V.
X-WR-CALDESC:Veranstaltungen von sun&amp;amp\;kids e.V.
REFRESH-INTERVAL;VALUE=DURATION:PT1440M
X-PUBLISHED-TTL:PT1440M
BEGIN:VTIMEZONE
TZID:Etc/GMT-1
BEGIN:STANDARD
DTSTART:20250220T200000Z
TZOFFSETFROM:+0100
TZOFFSETTO:+0100
END:STANDARD
END:VTIMEZONE
BEGIN:VTIMEZONE
TZID:UTC
BEGIN:STANDARD
DTSTART:20250727T204339Z
TZOFFSETFROM:+0000
TZOFFSETTO:+0000
END:STANDARD
END:VTIMEZONE
BEGIN:VEVENT
UID:1206-82
DTSTAMP:20260423T204339Z
SUMMARY:Volleyball Pfeifen - Betrieb - FES
LOCATION:
ORGANIZER;CN=verein:MAILTO:info@sunkids-verein.de
DTSTART;TZID=Etc/GMT-1:20251117T200000
DTEND;TZID=Etc/GMT-1:20251117T220000
X-ALT-DESC;FMTTYPE=TEXT/HTML:
CATEGORIES:Volleball Pfeifen
URL;VALUE=URI:https://www.sunkids-verein.de/mc-events/volleyball-pfeifen-be
 trieb-fes-2/
METHOD:PUBLISH
END:VEVENT
END:VCALENDAR