BEGIN:VCALENDAR
VERSION:2.0
PRODID:spatie/icalendar-generator
DESCRIPTION:Veranstaltungen von sun&amp;amp\;kids e.V.
X-WR-CALDESC:Veranstaltungen von sun&amp;amp\;kids e.V.
REFRESH-INTERVAL;VALUE=DURATION:PT1440M
X-PUBLISHED-TTL:PT1440M
BEGIN:VTIMEZONE
TZID:Etc/GMT-1
BEGIN:STANDARD
DTSTART:20250205T100000Z
TZOFFSETFROM:+0100
TZOFFSETTO:+0100
END:STANDARD
END:VTIMEZONE
BEGIN:VTIMEZONE
TZID:UTC
BEGIN:STANDARD
DTSTART:20250727T074024Z
TZOFFSETFROM:+0000
TZOFFSETTO:+0000
END:STANDARD
END:VTIMEZONE
BEGIN:VEVENT
UID:1200-76
DTSTAMP:20260423T074024Z
SUMMARY:Volleyball Männer - Nordhemmern
LOCATION:
ORGANIZER;CN=verein:MAILTO:info@sunkids-verein.de
DTSTART;TZID=Etc/GMT-1:20251102T100000
DTEND;TZID=Etc/GMT-1:20251102T140000
X-ALT-DESC;FMTTYPE=TEXT/HTML:
CATEGORIES:Volleybal Turnier
URL;VALUE=URI:https://www.sunkids-verein.de/mc-events/volleyball-maenner-no
 rdhemmern/
METHOD:PUBLISH
END:VEVENT
END:VCALENDAR