BEGIN:VCALENDAR
VERSION:2.0
PRODID:spatie/icalendar-generator
DESCRIPTION:Veranstaltungen von sun&amp;amp\;kids e.V.
X-WR-CALDESC:Veranstaltungen von sun&amp;amp\;kids e.V.
REFRESH-INTERVAL;VALUE=DURATION:PT1440M
X-PUBLISHED-TTL:PT1440M
BEGIN:VTIMEZONE
TZID:Etc/GMT-1
BEGIN:STANDARD
DTSTART:20241109T160000Z
TZOFFSETFROM:+0100
TZOFFSETTO:+0100
END:STANDARD
END:VTIMEZONE
BEGIN:VTIMEZONE
TZID:UTC
BEGIN:STANDARD
DTSTART:20250724T053736Z
TZOFFSETFROM:+0000
TZOFFSETTO:+0000
END:STANDARD
END:VTIMEZONE
BEGIN:VEVENT
UID:628-10
DTSTAMP:20260420T053736Z
SUMMARY:Treffpunkt Stall
LOCATION:
ORGANIZER;CN=verein:MAILTO:info@sunkids-verein.de
RRULE:FREQ=WEEKLY;UNTIL=20261231T000000Z
DTSTART;TZID=Etc/GMT-1:20250806T160000
DTEND;TZID=Etc/GMT-1:20250806T173000
X-ALT-DESC;FMTTYPE=TEXT/HTML:
CATEGORIES:Treffpunkt Stall
URL;VALUE=URI:https://www.sunkids-verein.de/mc-events/treffpunkt-stall-2/?m
 c_id=628
METHOD:PUBLISH
END:VEVENT
END:VCALENDAR