BEGIN:VCALENDAR
VERSION:2.0
PRODID:spatie/icalendar-generator
DESCRIPTION:Veranstaltungen von sun&amp;amp\;kids e.V.
X-WR-CALDESC:Veranstaltungen von sun&amp;amp\;kids e.V.
REFRESH-INTERVAL;VALUE=DURATION:PT1440M
X-PUBLISHED-TTL:PT1440M
BEGIN:VTIMEZONE
TZID:Etc/GMT-1
BEGIN:STANDARD
DTSTART:20251022T000000Z
TZOFFSETFROM:+0100
TZOFFSETTO:+0100
END:STANDARD
END:VTIMEZONE
BEGIN:VTIMEZONE
TZID:UTC
BEGIN:STANDARD
DTSTART:20250724T062013Z
TZOFFSETFROM:+0000
TZOFFSETTO:+0000
END:STANDARD
END:VTIMEZONE
BEGIN:VEVENT
UID:1182-61
DTSTAMP:20260420T062013Z
SUMMARY:Sommercamp
LOCATION:
ORGANIZER;CN=verein:MAILTO:info@sunkids-verein.de
DTSTART;TZID=Etc/GMT-1:20260719T000000
DTEND;TZID=Etc/GMT-1:20260726T010000
X-ALT-DESC;FMTTYPE=TEXT/HTML:
CATEGORIES:Camps &amp; Freizeiten
URL;VALUE=URI:https://www.sunkids-verein.de/mc-events/sommercamp-2/
METHOD:PUBLISH
END:VEVENT
END:VCALENDAR