BEGIN:VCALENDAR
VERSION:2.0
PRODID:spatie/icalendar-generator
DESCRIPTION:Veranstaltungen von sun&amp;amp\;kids e.V.
X-WR-CALDESC:Veranstaltungen von sun&amp;amp\;kids e.V.
REFRESH-INTERVAL;VALUE=DURATION:PT1440M
X-PUBLISHED-TTL:PT1440M
BEGIN:VTIMEZONE
TZID:Etc/GMT-1
BEGIN:STANDARD
DTSTART:20260203T000000Z
TZOFFSETFROM:+0100
TZOFFSETTO:+0100
END:STANDARD
END:VTIMEZONE
BEGIN:VTIMEZONE
TZID:UTC
BEGIN:STANDARD
DTSTART:20250728T160459Z
TZOFFSETFROM:+0000
TZOFFSETTO:+0000
END:STANDARD
END:VTIMEZONE
BEGIN:VEVENT
UID:1125-38
DTSTAMP:20260424T160459Z
SUMMARY:Reformationstag
LOCATION:
ORGANIZER;CN=verein:MAILTO:info@sunkids-verein.de
RRULE:FREQ=YEARLY;BYMONTH=10;BYDAY=31;UNTIL=20301031T000000Z
DTSTART;TZID=Etc/GMT-1;VALUE=DATE:20261031
DTEND;TZID=Etc/GMT-1;VALUE=DATE:20261101
X-ALT-DESC;FMTTYPE=TEXT/HTML:
CATEGORIES:Events
URL;VALUE=URI:https://www.sunkids-verein.de/mc-events/reformationstag/?mc_i
 d=1125
METHOD:PUBLISH
END:VEVENT
END:VCALENDAR