BEGIN:VCALENDAR
VERSION:2.0
PRODID:spatie/icalendar-generator
DESCRIPTION:Veranstaltungen von sun&amp;amp\;kids e.V.
X-WR-CALDESC:Veranstaltungen von sun&amp;amp\;kids e.V.
REFRESH-INTERVAL;VALUE=DURATION:PT1440M
X-PUBLISHED-TTL:PT1440M
BEGIN:VTIMEZONE
TZID:Etc/GMT-1
BEGIN:STANDARD
DTSTART:20251230T000000Z
TZOFFSETFROM:+0100
TZOFFSETTO:+0100
END:STANDARD
END:VTIMEZONE
BEGIN:VTIMEZONE
TZID:UTC
BEGIN:STANDARD
DTSTART:20250726T093509Z
TZOFFSETFROM:+0000
TZOFFSETTO:+0000
END:STANDARD
END:VTIMEZONE
BEGIN:VEVENT
UID:1608-119
DTSTAMP:20260422T093509Z
SUMMARY:Nancy `76
LOCATION:
ORGANIZER;CN=verein:MAILTO:info@sunkids-verein.de
RRULE:FREQ=YEARLY;BYMONTH=09;BYDAY=26;UNTIL=20281031T000000Z
DTSTART;TZID=Etc/GMT-1;VALUE=DATE:20260926
DTEND;TZID=Etc/GMT-1;VALUE=DATE:20260927
X-ALT-DESC;FMTTYPE=TEXT/HTML:
CATEGORIES:Geburtstage
URL;VALUE=URI:https://www.sunkids-verein.de/mc-events/nancy-76/?mc_id=1608
METHOD:PUBLISH
END:VEVENT
END:VCALENDAR