BEGIN:VCALENDAR
VERSION:2.0
PRODID:spatie/icalendar-generator
DESCRIPTION:Veranstaltungen von sun&amp;amp\;kids e.V.
X-WR-CALDESC:Veranstaltungen von sun&amp;amp\;kids e.V.
REFRESH-INTERVAL;VALUE=DURATION:PT1440M
X-PUBLISHED-TTL:PT1440M
BEGIN:VTIMEZONE
TZID:Etc/GMT-1
BEGIN:STANDARD
DTSTART:20250210T174500Z
TZOFFSETFROM:+0100
TZOFFSETTO:+0100
END:STANDARD
END:VTIMEZONE
BEGIN:VTIMEZONE
TZID:UTC
BEGIN:STANDARD
DTSTART:20250725T121105Z
TZOFFSETFROM:+0000
TZOFFSETTO:+0000
END:STANDARD
END:VTIMEZONE
BEGIN:VEVENT
UID:1168-53
DTSTAMP:20260421T121105Z
SUMMARY:Musical-Proben
LOCATION:
ORGANIZER;CN=verein:MAILTO:info@sunkids-verein.de
RRULE:FREQ=WEEKLY;UNTIL=20251224T000000Z
DTSTART;TZID=Etc/GMT-1:20251107T174500
DTEND;TZID=Etc/GMT-1:20251107T183400
X-ALT-DESC;FMTTYPE=TEXT/HTML:
CATEGORIES:Musical-Proben
URL;VALUE=URI:https://www.sunkids-verein.de/mc-events/musical-proben-2/?mc_
 id=1168
METHOD:PUBLISH
END:VEVENT
END:VCALENDAR