BEGIN:VCALENDAR
VERSION:2.0
PRODID:spatie/icalendar-generator
DESCRIPTION:Veranstaltungen von sun&amp;amp\;kids e.V.
X-WR-CALDESC:Veranstaltungen von sun&amp;amp\;kids e.V.
REFRESH-INTERVAL;VALUE=DURATION:PT1440M
X-PUBLISHED-TTL:PT1440M
BEGIN:VTIMEZONE
TZID:Etc/GMT-1
BEGIN:STANDARD
DTSTART:20250215T193000Z
TZOFFSETFROM:+0100
TZOFFSETTO:+0100
END:STANDARD
END:VTIMEZONE
BEGIN:VTIMEZONE
TZID:UTC
BEGIN:STANDARD
DTSTART:20250725T201755Z
TZOFFSETFROM:+0000
TZOFFSETTO:+0000
END:STANDARD
END:VTIMEZONE
BEGIN:VEVENT
UID:1600-112
DTSTAMP:20260421T201755Z
SUMMARY:MA Besprechung Volleyballturnier
LOCATION:
ORGANIZER;CN=verein:MAILTO:info@sunkids-verein.de
DTSTART;TZID=Etc/GMT-1:20251112T193000
DTEND;TZID=Etc/GMT-1:20251112T213000
X-ALT-DESC;FMTTYPE=TEXT/HTML:
CATEGORIES:MA Besprechung
URL;VALUE=URI:https://www.sunkids-verein.de/mc-events/ma-besprechung-volley
 ballturnier/
METHOD:PUBLISH
END:VEVENT
END:VCALENDAR