BEGIN:VCALENDAR
VERSION:2.0
PRODID:spatie/icalendar-generator
DESCRIPTION:Veranstaltungen von sun&amp;amp\;kids e.V.
X-WR-CALDESC:Veranstaltungen von sun&amp;amp\;kids e.V.
REFRESH-INTERVAL;VALUE=DURATION:PT1440M
X-PUBLISHED-TTL:PT1440M
BEGIN:VTIMEZONE
TZID:Etc/GMT-1
BEGIN:STANDARD
DTSTART:20251002T000000Z
TZOFFSETFROM:+0100
TZOFFSETTO:+0100
END:STANDARD
END:VTIMEZONE
BEGIN:VTIMEZONE
TZID:UTC
BEGIN:STANDARD
DTSTART:20250729T154150Z
TZOFFSETFROM:+0000
TZOFFSETTO:+0000
END:STANDARD
END:VTIMEZONE
BEGIN:VEVENT
UID:1756-137
DTSTAMP:20260425T154150Z
SUMMARY:Levke ´07
LOCATION:
ORGANIZER;CN=verein:MAILTO:info@sunkids-verein.de
RRULE:FREQ=YEARLY;BYMONTH=06;BYDAY=29;UNTIL=20301031T000000Z
DTSTART;TZID=Etc/GMT-1;VALUE=DATE:20260629
DTEND;TZID=Etc/GMT-1;VALUE=DATE:20260630
X-ALT-DESC;FMTTYPE=TEXT/HTML:
CATEGORIES:Geburtstage
URL;VALUE=URI:https://www.sunkids-verein.de/mc-events/levke-07/?mc_id=1756
METHOD:PUBLISH
END:VEVENT
END:VCALENDAR