BEGIN:VCALENDAR
VERSION:2.0
PRODID:spatie/icalendar-generator
DESCRIPTION:Veranstaltungen von sun&amp;amp\;kids e.V.
X-WR-CALDESC:Veranstaltungen von sun&amp;amp\;kids e.V.
REFRESH-INTERVAL;VALUE=DURATION:PT1440M
X-PUBLISHED-TTL:PT1440M
BEGIN:VTIMEZONE
TZID:Etc/GMT-1
BEGIN:STANDARD
DTSTART:20241012T000000Z
TZOFFSETFROM:+0100
TZOFFSETTO:+0100
END:STANDARD
END:VTIMEZONE
BEGIN:VTIMEZONE
TZID:UTC
BEGIN:STANDARD
DTSTART:20250724T144134Z
TZOFFSETFROM:+0000
TZOFFSETTO:+0000
END:STANDARD
END:VTIMEZONE
BEGIN:VEVENT
UID:1705-132
DTSTAMP:20260420T144134Z
SUMMARY:Kira ´04
LOCATION:
ORGANIZER;CN=verein:MAILTO:info@sunkids-verein.de
RRULE:FREQ=YEARLY;BYMONTH=07;BYDAY=09;UNTIL=20351031T000000Z
DTSTART;TZID=Etc/GMT-1;VALUE=DATE:20250709
DTEND;TZID=Etc/GMT-1;VALUE=DATE:20250710
X-ALT-DESC;FMTTYPE=TEXT/HTML:
CATEGORIES:Geburtstage
URL;VALUE=URI:https://www.sunkids-verein.de/mc-events/kira-04/?mc_id=1705
METHOD:PUBLISH
END:VEVENT
END:VCALENDAR