BEGIN:VCALENDAR
VERSION:2.0
PRODID:spatie/icalendar-generator
DESCRIPTION:Veranstaltungen von sun&amp;amp\;kids e.V.
X-WR-CALDESC:Veranstaltungen von sun&amp;amp\;kids e.V.
REFRESH-INTERVAL;VALUE=DURATION:PT1440M
X-PUBLISHED-TTL:PT1440M
BEGIN:VTIMEZONE
TZID:Etc/GMT-1
BEGIN:STANDARD
DTSTART:20240525T000000Z
TZOFFSETFROM:+0100
TZOFFSETTO:+0100
END:STANDARD
END:VTIMEZONE
BEGIN:VTIMEZONE
TZID:UTC
BEGIN:STANDARD
DTSTART:20250729T020452Z
TZOFFSETFROM:+0000
TZOFFSETTO:+0000
END:STANDARD
END:VTIMEZONE
BEGIN:VEVENT
UID:1778-141
DTSTAMP:20260425T020452Z
SUMMARY:Daniela ´72
LOCATION:
ORGANIZER;CN=verein:MAILTO:info@sunkids-verein.de
RRULE:FREQ=YEARLY;BYMONTH=02;BYDAY=19;UNTIL=20351031T000000Z
DTSTART;TZID=Etc/GMT-1;VALUE=DATE:20250219
DTEND;TZID=Etc/GMT-1;VALUE=DATE:20250220
X-ALT-DESC;FMTTYPE=TEXT/HTML:
CATEGORIES:Camps &amp; Freizeiten
URL;VALUE=URI:https://www.sunkids-verein.de/mc-events/daniela-72/?mc_id=177
 8
METHOD:PUBLISH
END:VEVENT
END:VCALENDAR